BEGIN:VCALENDAR
VERSION:2.0
PRODID:-//AskFRED//EN
CALSCALE:GREGORIAN
METHOD:PUBLISH
BEGIN:VEVENT
DTSTAMP:20260420T145650Z
UID:7aca7964-7aef-406f-82df-f73f9d5c3b1c
DTSTART;VALUE=DATE:20190630
DTEND;VALUE=DATE:20190630
DESCRIPTION:For fencers who have participated in NO MORE than 5 competition
 s.  Electric equipment required.  Fee is $40\, CASH at the door.  Late fee
  is $50 if registered after 6/26 See "more info" for details.
GEO:40.3571288;-74.9428965
LOCATION:287 South Main Street\, Lambertville\, NJ 08530 USA
SUMMARY:BCAF Youth & Senior Practice Foil Tournaments
BEGIN:VALARM
ACTION:DISPLAY
TRIGGER:-P1D
DESCRIPTION:Reminder
END:VALARM
END:VEVENT
END:VCALENDAR
