BEGIN:VCALENDAR
VERSION:2.0
PRODID:-//AskFRED//EN
CALSCALE:GREGORIAN
METHOD:PUBLISH
BEGIN:VEVENT
DTSTAMP:20260422T081756Z
UID:9c19cc96-1d97-48cd-9120-e32978c5fb26
DTSTART;VALUE=DATE:20260801
DTEND;VALUE=DATE:20260801
DESCRIPTION:Foil Div 2 and Div 3
GEO:40.8413145;-74.8216885
LOCATION:112 East Ave. Unit 9\, Hackettstown\, NJ 07840 US
SUMMARY:Valhalla Fencing Club Foil Div 2 and Div 3
BEGIN:VALARM
ACTION:DISPLAY
TRIGGER:-P1D
DESCRIPTION:Reminder
END:VALARM
END:VEVENT
END:VCALENDAR
