BEGIN:VCALENDAR
VERSION:2.0
PRODID:-//AskFRED//EN
CALSCALE:GREGORIAN
METHOD:PUBLISH
BEGIN:VEVENT
DTSTAMP:20260420T142456Z
UID:84143f18-6262-4512-882c-12fa18ae6d51
DTSTART;VALUE=DATE:20251019
DTEND;VALUE=DATE:20251019
GEO:40.6530118;-74.3168627
LOCATION:110 South Avenue\, Suite C\, GARWOOD\, NJ 07027 USA
SUMMARY:AFFA - Youth Tournament
BEGIN:VALARM
ACTION:DISPLAY
TRIGGER:-P1D
DESCRIPTION:Reminder
END:VALARM
END:VEVENT
END:VCALENDAR
