BEGIN:VCALENDAR
VERSION:2.0
PRODID:-//AskFRED//EN
CALSCALE:GREGORIAN
METHOD:PUBLISH
BEGIN:VEVENT
DTSTAMP:20260422T081752Z
UID:4a22872e-67f7-4af5-974c-2bbb9d1fb87c
DTSTART;VALUE=DATE:20260725
DTEND;VALUE=DATE:20260725
DESCRIPTION:The 21th Anniversary of the Southeast's largest and most presti
 gious charity tournament. Come fence Sabre on beautiful Tybee Island
GEO:32.022061;-80.8433935
LOCATION:North Beach Plaza\, Meddin Dr\, Tybee Island\, GA 313\, Tybee Isla
 nd\, GA 31328 USA
SUMMARY:Sabre in the Surf XXI
BEGIN:VALARM
ACTION:DISPLAY
TRIGGER:-P1D
DESCRIPTION:Reminder
END:VALARM
END:VEVENT
END:VCALENDAR
