BEGIN:VCALENDAR
VERSION:2.0
PRODID:-//AskFRED//EN
CALSCALE:GREGORIAN
METHOD:PUBLISH
BEGIN:VEVENT
DTSTAMP:20260422T072629Z
UID:f5bfe038-1af9-4ee6-a8c2-854f9cdff25d
DTSTART;VALUE=DATE:20200523
DTEND;VALUE=DATE:20200523
GEO:28.0606646;-82.4086796
LOCATION:12301 USF Genshaft Dr\, Tampa\, FL 33620 USA
SUMMARY:USF It's Just a Fleche Wound #8
BEGIN:VALARM
ACTION:DISPLAY
TRIGGER:-P1D
DESCRIPTION:Reminder
END:VALARM
END:VEVENT
END:VCALENDAR
