BEGIN:VCALENDAR
VERSION:2.0
PRODID:-//AskFRED//EN
CALSCALE:GREGORIAN
METHOD:PUBLISH
BEGIN:VEVENT
DTSTAMP:20260420T001942Z
UID:0da2b01e-6f29-4c46-b9d5-f642eef8eda0
DTSTART;VALUE=DATE:20151115
DTEND;VALUE=DATE:20151115
DESCRIPTION:2 Events: Sanctioned Open Senior Mixed Sabre and Unsanctioned O
 pen Mixed Y12/Y14 Sabre (ages 9-14).\n$25 entry fee.\n\nMust be a current 
 USFA member when pre-registering on AskFred.\nA minimum of 6 fencers neede
 d to hold events.
GEO:40.1060668;-76.4190675
LOCATION:For GPS: 75 Champ Blvd\, Manheim (Lancaster County)\, PA 17545 USA
SUMMARY:5th Annual Peter Folgner Memorial Sabre Tournament
BEGIN:VALARM
ACTION:DISPLAY
TRIGGER:-P1D
DESCRIPTION:Reminder
END:VALARM
END:VEVENT
END:VCALENDAR
