BEGIN:VCALENDAR
VERSION:2.0
PRODID:-//AskFRED//EN
CALSCALE:GREGORIAN
METHOD:PUBLISH
BEGIN:VEVENT
DTSTAMP:20260422T082521Z
UID:2ffa60f5-50ae-46c9-ab4e-72da581a7759
DTSTART;VALUE=DATE:20260626
DTEND;VALUE=DATE:20260626
DESCRIPTION:Friday Night Sabre E and Under 
GEO:40.8413145;-74.8216885
LOCATION:112 East Ave. Unit 9\, Hackettstown\, NJ 07840 US
SUMMARY:Valhalla Fencing Club Friday Night Sabre E and Under
BEGIN:VALARM
ACTION:DISPLAY
TRIGGER:-P1D
DESCRIPTION:Reminder
END:VALARM
END:VEVENT
END:VCALENDAR
