BEGIN:VCALENDAR
VERSION:2.0
PRODID:-//AskFRED//EN
CALSCALE:GREGORIAN
METHOD:PUBLISH
BEGIN:VEVENT
DTSTAMP:20260422T081843Z
UID:a5a4a7f6-bfe3-41f9-9e1a-2c84fb0f1bbd
DTSTART;VALUE=DATE:20260725
DTEND;VALUE=DATE:20260725
DESCRIPTION:Welcome to Battle 2026\, our summer tournament and our first at
 tempt at an all-foil tournament. Due to the size of the venue/number of ev
 ents\, all events have a maximum limit on the number of fencers.
GEO:29.3963905;-95.2464937
LOCATION:3201 TX-35\, Alvin\, TX 77511 US
SUMMARY:The Curse of Capistrano
BEGIN:VALARM
ACTION:DISPLAY
TRIGGER:-P1D
DESCRIPTION:Reminder
END:VALARM
END:VEVENT
END:VCALENDAR
