BEGIN:VCALENDAR
VERSION:2.0
PRODID:-//AskFRED//EN
CALSCALE:GREGORIAN
METHOD:PUBLISH
BEGIN:VEVENT
DTSTAMP:20260422T044330Z
UID:43a30527-eeb3-452e-aeba-cbb2c944c676
DTSTART;VALUE=DATE:20260425
DTEND;VALUE=DATE:20260425
DESCRIPTION:Open Epee\;\nE & Under Epee\,\nY12\, Y10 Epee\,\nEvents combine
 d if fewer than 6 fencers.\n$60 if preregistered and pay at the door.\n$70
  for walk- ins.\nNo credit card payments
GEO:39.9461302;-74.96118229999999
LOCATION:400 NJ-38\, Moorestown\, NJ 08057 US
SUMMARY:April 25th - ZFA Open Epee\, E & Under epee\, Y12\, Y10 Epee\, Moor
 estown NJ
BEGIN:VALARM
ACTION:DISPLAY
TRIGGER:-P1D
DESCRIPTION:Reminder
END:VALARM
END:VEVENT
END:VCALENDAR
