BEGIN:VCALENDAR
VERSION:2.0
PRODID:-//AskFRED//EN
CALSCALE:GREGORIAN
METHOD:PUBLISH
BEGIN:VEVENT
DTSTAMP:20260424T190424Z
UID:55adce8f-7204-47ab-95f0-4d1f17d36339
DTSTART;VALUE=DATE:20180628
DTEND;VALUE=DATE:20180707
SUMMARY:USA Fencing National Championships & July Challenge
BEGIN:VALARM
ACTION:DISPLAY
TRIGGER:-P1D
DESCRIPTION:Reminder
END:VALARM
END:VEVENT
END:VCALENDAR
