BEGIN:VCALENDAR
VERSION:2.0
PRODID:-//AskFRED//EN
CALSCALE:GREGORIAN
METHOD:PUBLISH
BEGIN:VEVENT
DTSTAMP:20260422T044258Z
UID:d6bdc4e6-c4de-42da-b497-fa343a52f624
DTSTART;VALUE=DATE:20260425
DTEND;VALUE=DATE:20260425
DESCRIPTION:RFC is hosting both Foil and Sabre Musketeers Tournaments this 
 Spring! Both events start at 11AM on 4/25. 
GEO:43.0940699;-77.5863787
LOCATION:3335 Brighton Henrietta Town Line Rd\, Rochester\, NY 14623 US
SUMMARY:Foil Spring Musketeers Tournament
BEGIN:VALARM
ACTION:DISPLAY
TRIGGER:-P1D
DESCRIPTION:Reminder
END:VALARM
END:VEVENT
END:VCALENDAR
