BEGIN:VCALENDAR
VERSION:2.0
PRODID:-//AskFRED//EN
CALSCALE:GREGORIAN
METHOD:PUBLISH
BEGIN:VEVENT
DTSTAMP:20260420T000839Z
UID:0ef3c0c6-3a29-4dcd-b344-da35f924dd68
DTSTART;VALUE=DATE:20151114
DTEND;VALUE=DATE:20151114
DESCRIPTION:Senior mixed epee open.\n$25 entry fee. Active duty service mem
 bers and veterans with a military ID receive $5 off the entry fee.\nMinimu
 m of 6 preregistred fencers need to hold event.\n\nMust be a current USFA 
 member when pre-registering on AskFred.
GEO:40.1060668;-76.4190675
LOCATION:For GPS: 75 Champ Blvd\, Manheim (Lancaster County)\, PA 17545 USA
SUMMARY:4 Star Epee Open
BEGIN:VALARM
ACTION:DISPLAY
TRIGGER:-P1D
DESCRIPTION:Reminder
END:VALARM
END:VEVENT
END:VCALENDAR
