BEGIN:VCALENDAR
VERSION:2.0
PRODID:-//AskFRED//EN
CALSCALE:GREGORIAN
METHOD:PUBLISH
BEGIN:VEVENT
DTSTAMP:20260422T044435Z
UID:41eecb81-e38f-46cf-88ee-02e7f8739791
DTSTART;VALUE=DATE:20260422
DTEND;VALUE=DATE:20260522
DESCRIPTION:This is a friendly event between UVA Fencing and Blue Ridge Fen
 cing\, please only register if you are a member of one of those clubs. 
GEO:38.0316358;-78.4657359
LOCATION:1326 E High St\, Charlottesville\, VA 22902 US
SUMMARY:UVA x BRFC Saber Challenge (in house\, unsanctioned event)
BEGIN:VALARM
ACTION:DISPLAY
TRIGGER:-P1D
DESCRIPTION:Reminder
END:VALARM
END:VEVENT
END:VCALENDAR
