BEGIN:VCALENDAR
VERSION:2.0
PRODID:-//AskFRED//EN
CALSCALE:GREGORIAN
METHOD:PUBLISH
BEGIN:VEVENT
DTSTAMP:20260422T082027Z
UID:5fcf9fd8-c232-4b1e-a006-b74e20617373
DTSTART;VALUE=DATE:20260619
DTEND;VALUE=DATE:20260619
DESCRIPTION:Men's & Women's Epee will both start at 6 pm. This event is san
 ctioned by USA Fencing's NJ Division and is open to fencers born in 2012 o
 r before.
GEO:40.2547909;-74.2470405
LOCATION:56 Thoreau Dr\, Freehold\, NJ 07728 US
SUMMARY:Freehold Fencing - June E & U Epee
BEGIN:VALARM
ACTION:DISPLAY
TRIGGER:-P1D
DESCRIPTION:Reminder
END:VALARM
END:VEVENT
END:VCALENDAR
