BEGIN:VCALENDAR
VERSION:2.0
PRODID:-//AskFRED//EN
CALSCALE:GREGORIAN
METHOD:PUBLISH
BEGIN:VEVENT
DTSTAMP:20260422T082037Z
UID:9ff46d1a-1ce1-4756-8a9d-b90c52d9f609
DTSTART;VALUE=DATE:20260619
DTEND;VALUE=DATE:20260619
DESCRIPTION:Open to all Senior and Y12 Epee Fencers from any Club\, Divisio
 n\, or Region. Registration to be paid at the door.
GEO:45.6761821;-122.6575238
LOCATION:1321 NE 76th St #3c\, Vancouver\, WA 98665 US
SUMMARY:Orion Spring Star Series Epee Senior Open & Y12 #3
BEGIN:VALARM
ACTION:DISPLAY
TRIGGER:-P1D
DESCRIPTION:Reminder
END:VALARM
END:VEVENT
END:VCALENDAR
