BEGIN:VCALENDAR
VERSION:2.0
PRODID:-//AskFRED//EN
CALSCALE:GREGORIAN
METHOD:PUBLISH
BEGIN:VEVENT
DTSTAMP:20260422T082026Z
UID:c04401a2-1d86-4c29-821c-409cc5185f26
DTSTART;VALUE=DATE:20260710
DTEND;VALUE=DATE:20260712
DESCRIPTION:Cornhusker State Games 2026! All ages/all weapons unsanctioned 
 tournament. REGISTER AT https://www.cornhuskerstategames.com
GEO:40.8153505;-96.6361365
LOCATION:6100 O St\, Lincoln\, NE 68505 USA
SUMMARY:Cornhusker State Games
BEGIN:VALARM
ACTION:DISPLAY
TRIGGER:-P1D
DESCRIPTION:Reminder
END:VALARM
END:VEVENT
END:VCALENDAR
