BEGIN:VCALENDAR
VERSION:2.0
PRODID:-//AskFRED//EN
CALSCALE:GREGORIAN
METHOD:PUBLISH
BEGIN:VEVENT
DTSTAMP:20260422T064000Z
UID:52f0716b-819b-45b5-b208-2ece37c71955
DTSTART;VALUE=DATE:20260823
DTEND;VALUE=DATE:20260823
GEO:40.8413145;-74.8216885
LOCATION:112 East Ave. Unit 9\, Hackettstown\, NJ 07840 US
SUMMARY:Valhalla Fencing Club Div 2 and Div 3 Foil and Sabre
BEGIN:VALARM
ACTION:DISPLAY
TRIGGER:-P1D
DESCRIPTION:Reminder
END:VALARM
END:VEVENT
END:VCALENDAR
