BEGIN:VCALENDAR
VERSION:2.0
PRODID:-//AskFRED//EN
CALSCALE:GREGORIAN
METHOD:PUBLISH
BEGIN:VEVENT
DTSTAMP:20260422T060436Z
UID:8caa5a2e-f1d7-4985-9601-abf7e1f64537
DTSTART;VALUE=DATE:20190915
DTEND;VALUE=DATE:20190915
DESCRIPTION:The first tournament in Dynamo Circuit!\nMedals for top 8. Doub
 le fee after registration closed.\n
GEO:42.3346852;-71.1938734
LOCATION:11 Homer st\, Newton\, MA 01907 USA
SUMMARY:Dynamo Classic Fall 2019
BEGIN:VALARM
ACTION:DISPLAY
TRIGGER:-P1D
DESCRIPTION:Reminder
END:VALARM
END:VEVENT
END:VCALENDAR
