BEGIN:VCALENDAR
VERSION:2.0
PRODID:-//AskFRED//EN
CALSCALE:GREGORIAN
METHOD:PUBLISH
BEGIN:VEVENT
DTSTAMP:20260422T081847Z
UID:c4e43133-5c7e-41de-a2ab-6993ee82f99c
DTSTART;VALUE=DATE:20260717
DTEND;VALUE=DATE:20260717
DESCRIPTION:Unrated Men's & Women's Foil will both start at 6:00 pm. This e
 vent is sanctioned by USA Fencing's NJ Division and is open to fencers bor
 n in 2012 or before.
GEO:40.2547909;-74.2470405
LOCATION:56 Thoreau Dr\, Freehold\, NJ 07728 US
SUMMARY:Freehold Fencing - July Unrated Foil
BEGIN:VALARM
ACTION:DISPLAY
TRIGGER:-P1D
DESCRIPTION:Reminder
END:VALARM
END:VEVENT
END:VCALENDAR
