BEGIN:VCALENDAR
VERSION:2.0
PRODID:-//AskFRED//EN
CALSCALE:GREGORIAN
METHOD:PUBLISH
BEGIN:VEVENT
DTSTAMP:20260422T044512Z
UID:f6c5e643-76e5-49b2-9ee7-d8cda4296ad2
DTSTART;VALUE=DATE:20260425
DTEND;VALUE=DATE:20260425
DESCRIPTION:BFA hosts a two-hour open-fencing practice for foil fencers fro
 m 12 to 2pm. We welcome all levels and ages of fencers!
GEO:37.3519923;-121.9671738
LOCATION:2360 El Camino Real\, Santa Clara\, CA 95050 US
SUMMARY:FOIL Open Fencing Practice BFA
BEGIN:VALARM
ACTION:DISPLAY
TRIGGER:-P1D
DESCRIPTION:Reminder
END:VALARM
END:VEVENT
END:VCALENDAR
