BEGIN:VCALENDAR
VERSION:2.0
PRODID:-//AskFRED//EN
CALSCALE:GREGORIAN
METHOD:PUBLISH
BEGIN:VEVENT
DTSTAMP:20260420T161613Z
UID:e1dfee15-5021-4d69-91b3-81838c292658
DTSTART;VALUE=DATE:20171029
DTEND;VALUE=DATE:20171029
DESCRIPTION:A three-weapon D & Under tournament! $20 first-event fee if pre
 -registered\, $15 each additional event. $25 + $20 if not pre-registered. 
  This is a USFA-sanctioned tournament and all USFA equipment rules will be
  enforced.
GEO:44.9756705;-93.2300231
LOCATION:123 SE Harvard St\, Minneapolis\, MN 55455 USA
SUMMARY:Great Moose D & Under - 2017/2018
BEGIN:VALARM
ACTION:DISPLAY
TRIGGER:-P1D
DESCRIPTION:Reminder
END:VALARM
END:VEVENT
END:VCALENDAR
