BEGIN:VCALENDAR
VERSION:2.0
PRODID:-//AskFRED//EN
CALSCALE:GREGORIAN
METHOD:PUBLISH
BEGIN:VEVENT
DTSTAMP:20260422T044114Z
UID:beda9e82-ccf1-4142-bfdc-b0694d53cddb
DTSTART;VALUE=DATE:20260424
DTEND;VALUE=DATE:20260424
DESCRIPTION:Competition starts at 6:15 pm and is sanctioned by the USFA's N
 J Division. You must be born in 2012 or earlier to be eligible.
GEO:40.6186318;-74.7579375
LOCATION:547 Rt. 22 East\, Whitehouse Station\, NJ 08833 USA
SUMMARY:Manchen Friday Night Unrated Sabre
BEGIN:VALARM
ACTION:DISPLAY
TRIGGER:-P1D
DESCRIPTION:Reminder
END:VALARM
END:VEVENT
END:VCALENDAR
