BEGIN:VCALENDAR
VERSION:2.0
PRODID:-//AskFRED//EN
CALSCALE:GREGORIAN
METHOD:PUBLISH
BEGIN:VEVENT
DTSTAMP:20260422T064403Z
UID:a8a689bf-8e68-4f99-b4f6-57271e7baa74
DTSTART;VALUE=DATE:20261031
DTEND;VALUE=DATE:20261101
DESCRIPTION:Halloween Open
GEO:37.7405455;-84.3016956
LOCATION:521 Lancaster Ave\, Richmond\, KY 40475 US
SUMMARY:Halloween Open:  Day of the Dead 13th Anniversary
BEGIN:VALARM
ACTION:DISPLAY
TRIGGER:-P1D
DESCRIPTION:Reminder
END:VALARM
END:VEVENT
END:VCALENDAR
