BEGIN:VCALENDAR
VERSION:2.0
PRODID:-//AskFRED//EN
CALSCALE:GREGORIAN
METHOD:PUBLISH
BEGIN:VEVENT
DTSTAMP:20260420T001939Z
UID:76d5fb4b-0adc-4725-b44a-3b721d42c71f
DTSTART;VALUE=DATE:20170324
DTEND;VALUE=DATE:20170324
DESCRIPTION:Y14\, Div 2\, Div 3\, Vet qualifier for Summer Nationals in Sal
 t Lake City\, UT.  All participants MUST preregister on AskFred. No walk-o
 ns allowed. All participants must be members of the Harrisburg Division. P
 re-registration closes on 3/17/17.\n
GEO:40.1050564;-76.4254713
LOCATION:75 Champ Blvd.\, Manheim\, PA 17545 USA
SUMMARY:Harrisburg Div.Summer Nationals Qualifier 2017
BEGIN:VALARM
ACTION:DISPLAY
TRIGGER:-P1D
DESCRIPTION:Reminder
END:VALARM
END:VEVENT
END:VCALENDAR
