BEGIN:VCALENDAR
VERSION:2.0
PRODID:-//AskFRED//EN
CALSCALE:GREGORIAN
METHOD:PUBLISH
BEGIN:VEVENT
DTSTAMP:20260422T082335Z
UID:59d7dc13-ec6c-488e-a511-9537995a98f4
DTSTART;VALUE=DATE:20260726
DTEND;VALUE=DATE:20260726
GEO:40.4117645;-74.4222478
LOCATION:The Fields Sports Complex\, 8 Cornwall Court\, East Brunswick\, NJ
  08816 US
SUMMARY:Escrimeur Youth\, Senior\, Veteran Sabre Cup - Summer 2026
BEGIN:VALARM
ACTION:DISPLAY
TRIGGER:-P1D
DESCRIPTION:Reminder
END:VALARM
END:VEVENT
END:VCALENDAR
